BEGIN:VCALENDAR
VERSION:2.0
PRODID:-//Asheville Community Yoga - ECPv6.15.20//NONSGML v1.0//EN
CALSCALE:GREGORIAN
METHOD:PUBLISH
X-ORIGINAL-URL:https://ashevillecommunityyoga.org
X-WR-CALDESC:Events for Asheville Community Yoga
REFRESH-INTERVAL;VALUE=DURATION:PT1H
X-Robots-Tag:noindex
X-PUBLISHED-TTL:PT1H
BEGIN:VTIMEZONE
TZID:America/New_York
BEGIN:DAYLIGHT
TZOFFSETFROM:-0500
TZOFFSETTO:-0400
TZNAME:EDT
DTSTART:20220313T070000
END:DAYLIGHT
BEGIN:STANDARD
TZOFFSETFROM:-0400
TZOFFSETTO:-0500
TZNAME:EST
DTSTART:20221106T060000
END:STANDARD
BEGIN:DAYLIGHT
TZOFFSETFROM:-0500
TZOFFSETTO:-0400
TZNAME:EDT
DTSTART:20230312T070000
END:DAYLIGHT
BEGIN:STANDARD
TZOFFSETFROM:-0400
TZOFFSETTO:-0500
TZNAME:EST
DTSTART:20231105T060000
END:STANDARD
BEGIN:DAYLIGHT
TZOFFSETFROM:-0500
TZOFFSETTO:-0400
TZNAME:EDT
DTSTART:20240310T070000
END:DAYLIGHT
BEGIN:STANDARD
TZOFFSETFROM:-0400
TZOFFSETTO:-0500
TZNAME:EST
DTSTART:20241103T060000
END:STANDARD
END:VTIMEZONE
BEGIN:VEVENT
DTSTART;TZID=America/New_York:20231015T170000
DTEND;TZID=America/New_York:20231015T190000
DTSTAMP:20260425T064411
CREATED:20230822T145206Z
LAST-MODIFIED:20230929T134251Z
UID:236711-1697389200-1697396400@ashevillecommunityyoga.org
SUMMARY:Volunteer Appreciation Party!
DESCRIPTION:Join us in the courtyard for a bonfire\, live music & quality time together! Halloween costumes welcome. The entire community is invited!
URL:https://ashevillecommunityyoga.org/event/volunteer-appreciation-party/
LOCATION:Asheville Community Yoga\, 8 Brookdale Rd\, Asheville\, North Carolina\, 28804\, United States
CATEGORIES:Workshops
END:VEVENT
BEGIN:VEVENT
DTSTART;TZID=America/New_York:20231020T160000
DTEND;TZID=America/New_York:20231020T200000
DTSTAMP:20260425T064411
CREATED:20230815T165412Z
LAST-MODIFIED:20231003T195344Z
UID:236687-1697817600-1697832000@ashevillecommunityyoga.org
SUMMARY:40 hr. Yin Yoga Teacher Training w/ Kelly Gilmore
DESCRIPTION:^ PLEASE NOTE: This date refers to the first meeting time. This training will take place over the course of 2 weekends (Fri.- Sun.) in October & November. Scroll down for detailed schedule.  \n\n\n\nat Asheville Community Yoga  \n\n\n\n\n\n\n\nYin Yoga has so much to offer in regards to healing and alignment on the physical\, mental and energetic levels and has gained in popularity over the past many years. While “Yang” Yoga styles (Ashtanga\, Vinyasa and other “flow” styles) focus on muscles\, “Yin” Yoga focuses on connective tissues with deeper longer holds and more time spent in stillness. \n\n\n\nThis training will provide you with the knowledge and embodied experience to safely and skillfully guide your students or yourself through transformative Yin Yoga sequences and classes. \n\n\n\nThis 40 hour Yoga Teacher Training is geared towards those who already hold a 200hr Yoga Teacher Training certificate and is worth 40 continuing education credits through Yoga Alliance. Although the training will be created with current yoga teachers in mind\, the format and information will be accessible for anyone looking for a deeper understanding of Yin Yoga as a therapeutic technique. \n\n\n\nSchedule: \n\n\n\n Fri. Oct. 20th -Sun. Oct. 22nd & Fri. Nov. 10th- Sun. Nov. 12th \n\n\n\nDaily Schedule: Fridays 4-8 p.m.\, Saturdays 9-5 p.m.\, & Sundays 9-4 p.m.  \n\n\n\nThere will be a 75 minute lunch break as well as a few smaller breaks on each Saturday andSunday session. \n\n\n\nCost: Click the button below to be redirected to our teacher training page where you will find pricing and registration details.  \n\n\n\n\n\n\n\nPLEASE NOTE: We encourage pre-registration for all programming. Registering in advance guarantees your spot and helps the studio have adequate staffing. If fewer than 5 participants register the event may be canceled. \n\n\n\nPlease create a mindbody account for each participant if registering more than 1 person. If you have any questions regarding registration\, need help registering\, or would like to request financial aid\, please email Sarah Newsome: Sarah@AshevilleCommunityYoga.org 
URL:https://ashevillecommunityyoga.org/event/40-hr-yin-yoga-teacher-training-w-kelly-gilmore/
LOCATION:Asheville Community Yoga\, 8 Brookdale Rd\, Asheville\, North Carolina\, 28804\, United States
CATEGORIES:Workshops
ATTACH;FMTTYPE=image/jpeg:https://ashevillecommunityyoga.org/wp-content/uploads/2023/07/Kelly1.jpg
END:VEVENT
BEGIN:VEVENT
DTSTART;TZID=America/New_York:20231022T153000
DTEND;TZID=America/New_York:20231022T183000
DTSTAMP:20260425T064411
CREATED:20230825T161241Z
LAST-MODIFIED:20231002T145335Z
UID:236718-1697988600-1697999400@ashevillecommunityyoga.org
SUMMARY:"The Power of The Circle" - A Collaborative Leadership & Yoga Training For Women w/ Luna Ray
DESCRIPTION:Sundays 3:30- pm 6:30 pm  \n\n\n\nOct. 22nd\, Oct. 29th\, Nov. 5th\, Nov. 12th\, Nov. 26th & Dec. 3rd. \n\n\n\nat Asheville Community Yoga \n\n\n\n\n\n\n\n\n\n\n\n\n\n\n\n\n\n\n\n\n\n\n\n\n\n\n\n\n\n\n\n\n \n\n\n\n\nFor thousands of years people have gathered in circles to heal\, learn\, thrive and sustain harmony in community.  The circles hold space for listening to your own heart of wisdom and healing on a deeper level. This space doesn’t critique and is not intended to be intellectually analyzing or deconstructing but hearing spiritually. I believe our current culture is asking us to use the old ways to support a new paradigm of being and working together.  As we learn and lead in this new way\, we bring with us more peace\, connection and healing in these challenging times.  \n\n\n\nThis training will provide a deep and intimate experience of collaborative leadership.  You will gather more understanding of yourself \, and all the tools and skills you need to facilitate and model empowered leadership. This can be used in your family circles\, corporate circles\, yoga circles\, one on one relationships\,  and even with nature. You will learn new ways of being with people in a more skillful and connected way.   \n\n\n\nWeek by week outline of Teachings:  \n\n\n\n10/22- The Power of The Circle \n\n\n\n10/29- The Soul of The Voice \n\n\n\n11/5- Remembering Our Inherent Power Together \n\n\n\n11/12- The Taoist Leader \n\n\n\n11/26 – Elements of The Circle (Leadership nuts\, bolts\, resources\, & more) \n\n\n\n12/3- Stepping Up\, Stepping Out (Love In Action) \n\n\n\n \n\n\n\nSliding Scale Cost: $295-$395 \n\n\n\nFinancial Assistance Available \n\n\n\n\n\n\n\nPLEASE NOTE: We encourage pre-registration for all programming. Registering in advance guarantees your spot and helps the studio have adequate staffing. If fewer than 5 participants register the event may be canceled. \n\n\n\nPlease create a mindbody account for each participant if registering more than 1 person. If you have any questions regarding registration\, or financial aid\, please email Sarah sarah@ashevillecommunityyoga.org  \n\n\n\n\n\nBegins: \n\n\n\n\n\nDetails
URL:https://ashevillecommunityyoga.org/event/the-power-of-the-circle-a-collaborative-leadership-yoga-training-for-women-w-luna-ray/
LOCATION:Asheville Community Yoga\, 8 Brookdale Rd\, Asheville\, North Carolina\, 28804\, United States
CATEGORIES:Workshops
END:VEVENT
BEGIN:VEVENT
DTSTART;TZID=America/New_York:20231030T100000
DTEND;TZID=America/New_York:20231030T120000
DTSTAMP:20260425T064411
CREATED:20230921T001509Z
LAST-MODIFIED:20230921T001510Z
UID:24008-1698660000-1698667200@ashevillecommunityyoga.org
SUMMARY:"A Matter of Balance" Series
DESCRIPTION:Through Area Agency on Aging  \n\n\n\n\n\n\n\n\n(*Please note\, this is not a one day event but an 8 week series. Class meets Mondays from 10- noon beginning October 30th and ending December 18th) \n\n\n\n\n@ Asheville Community Yoga \n\n\n\n\n\n\n\n\n\n\n\n\n\n\n\n\nThe fear of falling is common among older adults and can increase a person’s risk of falling. A Matter of Balance provides strategies to reduce this fear and increase confidence. Learn practical information for preventing falls\, exercises to improve strength and balance\, tips for getting off the ground after a fall\, how to improve home safety\, and more in this eight-session series. \n\n\n\n\n\nThe program is designed to benefit older adults who: \n\n\n\n\n\n\n\nAre concerned about falls.\n\n\n\nHave sustained falls in the past.\n\n\n\nRestrict activities because of concerns about falling.\n\n\n\nAre interested in improving flexibility\, balance\, and strength.\n\n\n\nAre age 60 or older\, community-dwelling\, and able to problem-solve.\n\n\n\n\n\n\nCost: Free for all adults ages 60+ \n\n\n\nFor more information\, or to Register\, contact:  \n\n\n\nBrea Kuykendall \n\n\n\n(828) 251-7438 \n\n\n\nbrea@landofsky.org
URL:https://ashevillecommunityyoga.org/event/a-matter-of-balance-series/
LOCATION:Asheville Community Yoga\, 8 Brookdale Rd\, Asheville\, North Carolina\, 28804\, United States
CATEGORIES:Workshops
ATTACH;FMTTYPE=image/jpeg:https://ashevillecommunityyoga.org/wp-content/uploads/2023/05/photo-1626668011660-051379e9b211.jpeg
END:VEVENT
END:VCALENDAR