BEGIN:VCALENDAR
VERSION:2.0
PRODID:-//Asheville Community Yoga - ECPv6.15.20//NONSGML v1.0//EN
CALSCALE:GREGORIAN
METHOD:PUBLISH
X-WR-CALNAME:Asheville Community Yoga
X-ORIGINAL-URL:https://ashevillecommunityyoga.org
X-WR-CALDESC:Events for Asheville Community Yoga
REFRESH-INTERVAL;VALUE=DURATION:PT1H
X-Robots-Tag:noindex
X-PUBLISHED-TTL:PT1H
BEGIN:VTIMEZONE
TZID:America/New_York
BEGIN:DAYLIGHT
TZOFFSETFROM:-0500
TZOFFSETTO:-0400
TZNAME:EDT
DTSTART:20240310T070000
END:DAYLIGHT
BEGIN:STANDARD
TZOFFSETFROM:-0400
TZOFFSETTO:-0500
TZNAME:EST
DTSTART:20241103T060000
END:STANDARD
BEGIN:DAYLIGHT
TZOFFSETFROM:-0500
TZOFFSETTO:-0400
TZNAME:EDT
DTSTART:20250309T070000
END:DAYLIGHT
BEGIN:STANDARD
TZOFFSETFROM:-0400
TZOFFSETTO:-0500
TZNAME:EST
DTSTART:20251102T060000
END:STANDARD
BEGIN:DAYLIGHT
TZOFFSETFROM:-0500
TZOFFSETTO:-0400
TZNAME:EDT
DTSTART:20260308T070000
END:DAYLIGHT
BEGIN:STANDARD
TZOFFSETFROM:-0400
TZOFFSETTO:-0500
TZNAME:EST
DTSTART:20261101T060000
END:STANDARD
END:VTIMEZONE
BEGIN:VEVENT
DTSTART;TZID=America/New_York:20251003T173000
DTEND;TZID=America/New_York:20251003T193000
DTSTAMP:20260423T212725
CREATED:20250709T175245Z
LAST-MODIFIED:20250904T203537Z
UID:240690-1759512600-1759519800@ashevillecommunityyoga.org
SUMMARY:Yogi Book Club: The Untethered Soul by Michael Singer
DESCRIPTION:Free Community Event!\n \nGrab your book and save the date! \nGather in community to discuss “The Untethered Soul: The Journey Beyond Yourself” by Michael A. Singer. Community Members are welcome to join even if they are unable to finish the book\, as there is much value to be gained from discussion.  \nPlease sign up in advance so we know to expect you! \n*ACY does not provide copies of the book. Please consider checking out from your local library\, or buying used. The audiobook is available as well. \nFrom GoodReads.com: \nWhat would it be like to free yourself from limitations and soar beyond your boundaries? What can you do each day to discover inner peace and serenity?The Untethered Soul offers simple yet profound answers to these questions. \n  \nWhether this is your first exploration of inner space\, or you’ve devoted your life to the inward journey\, this book will transform your relationship with yourself and the world around you. You’ll discover what you can do to put an end to the habitual thoughts and emotions that limit your consciousness. By tapping into traditions of meditation and mindfulness\, author and spiritual teacher Michael A. Singer shows how the development of consciousness can enable us all to dwell in the present moment and let go of painful thoughts and memories that keep us from achieving happiness and self-realization. \n  \nCopublished with the Institute of Noetic Sciences (IONS)The Untethered Soul begins by walking you through your relationship with your thoughts and emotions\, helping you uncover the source and fluctuations of your inner energy. It then delves into what you can do to free yourself from the habitual thoughts\, emotions\, and energy patterns that limit your consciousness. Finally\, with perfect clarity\, this book opens the door to a life lived in the freedom of your innermost being. \n  \nFor more information on Stephen\, please see his teacher profile here! \nPlease create a Mindbody account for each participant if registering more than 1 person. If you have any questions regarding registration\, please email Kelsey at  kelsey@ashevillecommunityyoga.org
URL:https://ashevillecommunityyoga.org/event/yogi-book-club-the-untethered-soul-by-michael-singer/
LOCATION:Asheville Community Yoga\, 8 Brookdale Rd\, Asheville\, North Carolina\, 28804\, United States
CATEGORIES:Community Events
ATTACH;FMTTYPE=image/jpeg:https://ashevillecommunityyoga.org/wp-content/uploads/2025/07/untethered.jpg
END:VEVENT
BEGIN:VEVENT
DTSTART;TZID=America/New_York:20251004T101500
DTEND;TZID=America/New_York:20251004T121500
DTSTAMP:20260423T212725
CREATED:20250818T155157Z
LAST-MODIFIED:20250904T204000Z
UID:240856-1759572900-1759580100@ashevillecommunityyoga.org
SUMMARY:Integrative Breathwork for Self-Discovery with Margaret Kirschner & Eddie LeShure
DESCRIPTION:ACY will provide eye-coverings for this workshop\, but please bring your own if you would prefer. \nPlease refrain from eating 1-2 hours before practicing intense breathwork. \nIntegrative Breathwork is a powerful adjunct to meditation and yoga\, effective for working with addiction\, trauma\, depression\, and anxiety. The process is very safe and simple\, combining accelerated breathing with evocative music in an eyes closed setting. You remain in complete control of your own process. \nIntegrative Breathwork Sessions • Expand your mind • Receive inner guidance • Create and strengthen new neural pathways  \nEvocative music and dynamic breathing open the door to insights and inner guidance • Learn to trust yourself • Know that your answers are within • Gain confidence\, feel lighter • Loosen the negative grip of past trauma \nDynamic Breathing\, Expanded Mind Taking fuller breaths more rapidly\, accompanied by carefully selected music that guides your experience\, can nudge you into a non-ordinary state of consciousness. Your brain’s typical default mode relaxes. Most of us have an overactive\, self-critical “monkey mind\,” which slips out of the way as we continue to breathe faster\, more deeply\, and continuously. Soon\, inner wisdom reveals important insights which can shift a dysfunctional habitual thinking pattern\, providing a new way to look at ourselves and our relationship to the events of our life. \nSoftens the Grip of Past Conditioning For many people\, noticing\, accepting\, and expressing authentic feelings is a learned skill that requires practice. A common phrase is “What you resist persists.” it is natural to resist what is uncomfortable and lean\, instead\, towards avoiding that discomfort by suppressing emotions and stifling the ones that we perceive are not acceptable\, such as anger or sadness\, perhaps. Integrative breathwork recognizes the pervasive impact of personal and collective trauma and responds with tools that untangle it while also intending to avoid re-traumatization. It is an efficient way to clear conditioned resistance. \nIf you are pregnant\, have cardiovascular concerns\, severe hypertension (untreated high blood pressure)\, severe mental illness\, epilepsy or have had recent surgery\, infection\, illness or fever\, please do not sign up.  If you have asthma\, please bring your inhaler with you. \n  \nCost: $30Financial Aid Available- Please stop by the front desk\, call\, or email kelsey@ashevillecommunityyoga.org. \nMargaret Kirschner is a Certified Trauma-Sensitive Yoga Therapist (E-RYT 500 C-IAYT)\, Certified Alcohol and Drug Counselor (CADC)\, ACISTE Certified Mental Health Professional (ACMHP)\, Peer Support Specialist (CPSS)\, Breathwork Facilitator and Birth Doula. Margaret safely supports individuals in learning to listen to and trust their bodies with an attitude of curiosity and compassion. Says Margaret\, “My greatest joy is witnessing people reclaiming their lives through the simple and profound practices of yoga\, breathwork\, and mindfulness.” For more information on Margaret\, please see her teacher profile here! \nEddie LeShure is a Certified Yoga Instructor (RYT 200)\, Meditation Teacher\, Certified Alcohol and Drug Counselor (CADC)\, Certified Peer Support Specialist (CPSS)\, Spiritual Emergence Coach ® (IMHU)\,and Breathwork Facilitator. Eddie’s personal journey took him deep into the throes of active addiction and incarceration on a drug arrest. His two years behind bars were mostly spent in the notorious Attica Prison where he survived a rebellion in 1971 that killed 43 inmates and employees. As a survivor of extreme trauma\, his personal healing and how he works with others has always been guided by deep understanding and compassion. As co-owner of A Mindful Emergence LLC\, he provides preparation\, facilitation and integration for those intentionally using plant medicines and other psychedelics. His primary passion is providing trauma-sensitive\, somatic mindfulness and self-compassion practices to support us effectively embracing our full range of thoughts\, feelings and physical sensations. For more information on Eddie\, please see his teacher profile here! \nFor more information on Margaret and Eddie’s organization\, please see their website here. \n \nPLEASE NOTE: We encourage pre-registration for all programming. Registering in advance guarantees your spot and helps the studio have adequate staffing. If fewer than 5 participants register the event may be canceled. \nRefund Policy: We understand that life happens and unforeseen circumstances come up. If life offers up an unexpected event and you need to withdraw from the workshop:  \n\nA full refund will be issued if you need to withdraw 4+ days before the workshop. Please reach out for your refund\, as it will not be automatically applied to your account.\n\n\nIf you need to withdraw within 3 days or fewer\, no refund is provided.  \n\n\nPlease create a Mindbody account for each participant if registering more than 1 person. If you have any questions regarding registration\, please email Kelsey at  kelsey@ashevillecommunityyoga.org 
URL:https://ashevillecommunityyoga.org/event/integrative-breathwork-for-self-discovery-with-margaret-kirschner-eddie-leshure-3/
LOCATION:Asheville Community Yoga\, 8 Brookdale Rd\, Asheville\, North Carolina\, 28804\, United States
CATEGORIES:Workshops
ATTACH;FMTTYPE=image/png:https://ashevillecommunityyoga.org/wp-content/uploads/2024/03/Eddie-and-Margaret.png
END:VEVENT
BEGIN:VEVENT
DTSTART;TZID=America/New_York:20251005T101500
DTEND;TZID=America/New_York:20251005T121500
DTSTAMP:20260423T212725
CREATED:20250514T231202Z
LAST-MODIFIED:20250904T204800Z
UID:240458-1759659300-1759666500@ashevillecommunityyoga.org
SUMMARY:Standing On the Sky: An Approach to Headstand w/ Leaflin Winecoff
DESCRIPTION:In this workshop we will explore intelligent methods of approaching the illustrious pose that is headstand. \nStep by step\, we will learn how to prepare the body for this pose\, essentials of alignment\, & how to incorporate bandha for greater ease. We will also explore some alternatives to headstand\, that still give all the benefits of inverting. Students will leave with a greater sense of trust in themselves\, and the fresh new perspective that inversions have to offer. \nBenefits of inverting:\n~Increased blood flow to the brain & other vital organs \n~Builds core strength\, balance &  proprioceptive awareness \n~Gives fresh perspective \n\n~Builds confidence! \n\n\n\n\n\nIn this workshop we will:\n~Thoroughly warm up the entire body\, especially the wrists\, shoulders\, core & spine \n~Play with fun ways of finding the specific muscles it takes to lift off\, without actually inverting \n~Discuss how to fall safely \n~Learn a step by step method for going into headstand/handstand without “kicking up” \n\n~Explore alternate inversions for beginners (such as waterfall & shoulder stand) & options for advanced practice (scorpion\, forearm balance)  \n\n\n\n\n\n\n\n\n\n\nCome learn how you can “Stand on the sky” and find the joy of going up-side-down! \nFor more information on Leaflin\, please see her teacher profile here! \n  \n\n\n\n\n\n\n\n\n\n\n\n \nCost: $30 per personFinancial Aid Available- Please stop by the front desk\, call\, or email kelsey@ashevillecommunityyoga.org. \nPLEASE NOTE: We encourage pre-registration for all programming. Registering in advance guarantees your spot and helps the studio have adequate staffing. If fewer than 5 participants register the event may be canceled. \nRefund Policy: We understand that life happens and unforeseen circumstances come up. If life offers up an unexpected event and you need to withdraw from the workshop: \n\nA full refund will be issued if you need to withdraw 4+ days before the workshop. Please reach out for your refund\, as it will not be automatically applied to your account.\nIf you need to withdraw within 3 days or fewer\, no refund is provided.\n\nPlease create a Mindbody account for each participant if registering more than 1 person. If you have any questions regarding registration\, please email Kelsey at  kelsey@ashevillecommunityyoga.org
URL:https://ashevillecommunityyoga.org/event/standing-on-the-sky-an-approach-to-headstand-w-leaflin-winecoff/
LOCATION:Asheville Community Yoga\, 8 Brookdale Rd\, Asheville\, North Carolina\, 28804\, United States
CATEGORIES:Workshops
ATTACH;FMTTYPE=image/jpeg:https://ashevillecommunityyoga.org/wp-content/uploads/2024/12/Leaflin.jpeg
END:VEVENT
BEGIN:VEVENT
DTSTART;TZID=America/New_York:20251012T160000
DTEND;TZID=America/New_York:20251012T183000
DTSTAMP:20260423T212725
CREATED:20250818T141758Z
LAST-MODIFIED:20250919T145112Z
UID:240849-1760284800-1760293800@ashevillecommunityyoga.org
SUMMARY:ACY's 15th Birthday Party
DESCRIPTION:Free Community Event!\n \n🎉 Celebrating 15 Years of Community & ConnectionJoin us in celebrating 15 beautiful years of Asheville Community Yoga.  \nWhat started as a humble space for healing has blossomed into a vibrant sanctuary for thousands.As a nonprofit studio we’ve grown from the ground up\, rooted deeply in the heart of Asheville and nourished by the love and care of this incredible community. \n \n📅 Save the Date:Sunday\, October 12th4:00–6:30pm \nOur theme\, Rooted in Asheville\, Rising in Community\, reflects our journey: grounded in mutual support\, growing through shared care\, and rising together as a collective. This celebration is more than a birthday\, it’s a tribute to every person who has walked through our doors\, rolled out a mat\, volunteered time\, donated resources\, or simply held space. \nTogether\, we’ve made donation-based yoga and healing possible for 15 years and together\, we rise into what’s next. \n🌱 Come Celebrate With: \n\nMusic & Good Vibes from the Sun Sippers\nDelicious Eats & Drinks from Delish Venezuelan Food Truck\, Mehfil Indian Food Truck & The Runaway Cafe\nHealing Experientials including Chair Massage\, Reiki\, Tarot Readings\, Thai Bodywork\, Sound Healing & more\nKids Activities so little ones can join the fun\, too!\n\nWhether you’ve been with us since the beginning or just discovered our space\, we invite you to gather\, connect\, and celebrate this milestone with us. \nLet’s honor how far we’ve come\, together. \nCome celebrate 15 years of yoga\, healing\, and heart. Come celebrate community. Come celebrate you.
URL:https://ashevillecommunityyoga.org/event/acys-15th-birthday-party/
LOCATION:Asheville Community Yoga\, 8 Brookdale Rd\, Asheville\, North Carolina\, 28804\, United States
CATEGORIES:Community Events
ATTACH;FMTTYPE=image/jpeg:https://ashevillecommunityyoga.org/wp-content/uploads/2025/08/DSC_0184-1-scaled.jpg
END:VEVENT
BEGIN:VEVENT
DTSTART;TZID=America/New_York:20251018T100000
DTEND;TZID=America/New_York:20251018T123000
DTSTAMP:20260423T212725
CREATED:20250902T170002Z
LAST-MODIFIED:20250924T230311Z
UID:241037-1760781600-1760790600@ashevillecommunityyoga.org
SUMMARY:Take Up Some Space! Practice Setting Boundaries\, Asking for Help\, and Receiving Care w/ Travis Redtail & Eden Sipperly
DESCRIPTION:This interactive workshop offers group exercises to help you build confidence in your daily interactions with guided meditation\, vocalization\, scenario improv\, somatic experiencing\, and reiki healing. \nJoin Eden and Travis for a 2.5 hour workshop exploring ways of Taking Up Space – where participants practice the art of speaking their boundaries\, asking for assistance\, and receiving care all within a supportive group setting.  \nGuided in four parts\, participants will: 1) Meditate on their existing strengths with Taking Up Space (guided meditation) 2) Explore their blockages with Taking Up Space in daily life (group discussion) 3) Practice Taking Up Space in group improv exercises (group activity) 4) Practice receiving care in a group reiki healing session (lying down)  \nAbout Eden: Eden is a clinical mental health counselor CMHCA\, Registered Reiki Master/Teacher with the International Center for Reiki Training (ICRT)\, recovery coach\, and meditation guide. She is passionate about the healing powers of connection: to Self\, community\, earth\, and spirit. \nAbout Travis: Travis facilitates extraordinary group experiences that revitalize individuals and teams through the power of community connection. He has facilitated hundreds of participants in workshops on Leadership\, Vitality\, and Yoga – serving corporate clients\, wellness studios\, and festivals for over a decade. \n\n \n\n\n\n\n\n\n\n\n\n\n For more information on Travis\, please see his teacher profile here! \nCost: $35Financial Aid Available- Please stop by the front desk\, call\, or email kelsey@ashevillecommunityyoga.org. \n \n \nPLEASE NOTE: We encourage pre-registration for all programming. Registering in advance guarantees your spot and helps the studio have adequate staffing. If fewer than 5 participants register the event may be canceled. \nRefund Policy: We understand that life happens and unforeseen circumstances come up. If life offers up an unexpected event and you need to withdraw from the workshop: \n\nA full refund will be issued if you need to withdraw 4+ days before the workshop. Please reach out for your refund\, as it will not be automatically applied to your account.\nIf you need to withdraw within 3 days or fewer\, no refund is provided.\n\nPlease create a Mindbody account for each participant if registering more than 1 person. If you have any questions regarding registration\, please email Kelsey at  kelsey@ashevillecommunityyoga.org
URL:https://ashevillecommunityyoga.org/event/take-up-some-space-practicing-boundaries-asking-for-help-and-receiving-care-w-travis-redtail/
LOCATION:Asheville Community Yoga\, 8 Brookdale Rd\, Asheville\, North Carolina\, 28804\, United States
CATEGORIES:Workshops
ATTACH;FMTTYPE=image/jpeg:https://ashevillecommunityyoga.org/wp-content/uploads/2025/09/eden-and-travis-2-scaled-e1757430000406.jpeg
END:VEVENT
END:VCALENDAR